BEGIN:VCALENDAR
VERSION:2.0
PRODID:-//eventon.com NONSGML v1.0//EN
CALSCALE:GREGORIAN
METHOD:PUBLISH
BEGIN:VEVENT
UID:69e751a748ce2
DTSTAMP:20260421T102959Z
DTSTART:20210316T180000Z
DTEND:20210316T193000Z
LOCATION:Zoom
SUMMARY:Webinaire PSYRIS : Yasmine Lienard - Spiritualité et Santé Mentale
DESCRIPTION:La spiritualité peut elle nourrir le soin des maladies mental
 es ? Qu’est ce que la spiritualité ? Quelles sont les sources tradition
 nelles qui viennent aujourd’hui nourrir le travail des psychothérapeutes
  et psychiatres? Le docteur Yasmine Lienard psychiatre\,  praticien à l’
 hôpital de Sarlat et ancienne chef de clinique de l’hôpital Sainte Anne
  va[..]\nhttps://www.psyris.be/evenements/webinaire-psyris-yasmine-lienard-
 spiritualite-et-sante-mentale/
URL:https://www.psyris.be/evenements/webinaire-psyris-yasmine-lienard-spiritualite-et-sante-mentale/
END:VEVENT
END:VCALENDAR