BEGIN:VCALENDAR
VERSION:2.0
PRODID:-//eventon.com NONSGML v1.0//EN
CALSCALE:GREGORIAN
METHOD:PUBLISH
BEGIN:VEVENT
UID:69e5f52f0a226
DTSTAMP:20260420T094311Z
DTSTART:20220406T160000Z
DTEND:20220406T215000Z
LOCATION:Zoom
SUMMARY:Faire la paix avec son passé - avril à juin 2022
DESCRIPTION:Groupe thérapeutique « faire la paix avec son passé » Dat
 es : du 6 avril au 29 juin &#8211; Tous les mercredis soir &#8211; 18h00 à
  20h00 Lieu : En ligne &#8211; Zoom Attention : le 25 mai et le 1 juin\,  i
 l n&rsquo;y a pas atelier Prix : 420 eur Nombre[..]\nhttps://www.psyris.be/
 evenements/faire-la-paix-avec-son-passe-avril-a-juin-2022/
URL:https://www.psyris.be/evenements/faire-la-paix-avec-son-passe-avril-a-juin-2022/
END:VEVENT
END:VCALENDAR