BEGIN:VCALENDAR
VERSION:2.0
PRODID:-//eventon.com NONSGML v1.0//EN
CALSCALE:GREGORIAN
METHOD:PUBLISH
BEGIN:VEVENT
UID:69e5f6282daeb
DTSTAMP:20260420T094720Z
DTSTART:20230606T070000Z
DTEND:20230606T215000Z
LOCATION:Zoom
SUMMARY:ACT et Pleine Conscience - 6\,  7 et 8 juin 2023 - En ligne
DESCRIPTION:3 jours / 21 heures de formation La formation se dÃ©roule en li
 gne &#8211; Le lien ainsi que les consignes vous seront envoyÃ©s quelques j
 ours avant la formation Tarif : 480 euros Horaires : de 9h Ã  17h30 Les thÃ
 ©rapies dâ€™acceptation et de pleine conscience appartiennent aux thÃ©rapie
 s cognitives comportementales[..]\nhttps://www.psyris.be/evenements/act-et-
 pleine-conscience-6-7-et-8-juin-2023-en-ligne/
URL:https://www.psyris.be/evenements/act-et-pleine-conscience-6-7-et-8-juin-2023-en-ligne/
END:VEVENT
END:VCALENDAR