BEGIN:VCALENDAR
VERSION:2.0
PRODID:-//eventon.com NONSGML v1.0//EN
CALSCALE:GREGORIAN
METHOD:PUBLISH
BEGIN:VEVENT
UID:69e8891be9b13
DTSTAMP:20260422T083851Z
DTSTART:20241013T070000Z
DTEND:20241016T150000Z
LOCATION:Cergy-Pontoise
SUMMARY:Ecothérapie France - Niveau 3 : Axe Majeur - Cergy-Pontoise - 13/10 au 16/10 2024
DESCRIPTION:Lieu : Cergy-Pontoise Frais pédagogique : 640 euros Pension Co
 mplète : à déterminer Horaire : Arrivée le 13/10 à 9h pour l&rsquo;acc
 ueil et les premiers exercices ; fin le 16/10 à 17h Formateurs : Egide Alt
 enloh\,  Thomas Busigny et Yann Desbrosses Descriptif : A ce niveau\,  nous
  allons combiner le[..]\nhttps://www.psyris.be/evenements/ecotherapie-franc
 e-niveau-3-axe-majeur-cergy-pontoise-12-10-au-16-10-2024/
URL:https://www.psyris.be/evenements/ecotherapie-france-niveau-3-axe-majeur-cergy-pontoise-12-10-au-16-10-2024/
END:VEVENT
END:VCALENDAR