BEGIN:VCALENDAR
VERSION:2.0
PRODID:-//eventon.com NONSGML v1.0//EN
CALSCALE:GREGORIAN
METHOD:PUBLISH
BEGIN:VEVENT
UID:69e73e213850a
DTSTAMP:20260421T090641Z
DTSTART:20240312T080000Z
DTEND:20240312T225000Z
LOCATION:À distance
SUMMARY:Aider ses patients à mieux gérer la colère (formation pro) - en ligne -12\,  13\,  14 mars
DESCRIPTION:Formation en ligne 3 jours / 21h Cette formation de 3 jours en 
 ligne donne les bases techniques\,  théoriques et pratiques de l&rsquo;acc
 ompagnement des patients/clients en prise avec des difficultés du spectre 
 émotionnel de la colère (irritabilité\,  agressivité\,  « répartie f
 acile »&#8230;). La colère est une émotion taboue\,  très envahissante
  et explosive.[..]\nhttps://www.psyris.be/evenements/aider-ses-patients-a-m
 ieux-gerer-la-colere-formation-pro-en-ligne-12-13-14-mars/
URL:https://www.psyris.be/evenements/aider-ses-patients-a-mieux-gerer-la-colere-formation-pro-en-ligne-12-13-14-mars/
END:VEVENT
END:VCALENDAR