BEGIN:VCALENDAR
VERSION:2.0
PRODID:-//eventon.com NONSGML v1.0//EN
CALSCALE:GREGORIAN
METHOD:PUBLISH
BEGIN:VEVENT
UID:69e5f4008f77c
DTSTAMP:20260420T093808Z
DTSTART:20181020T080000Z
DTEND:20181020T110000Z
LOCATION:Rouge Cloître - Bruxelles
SUMMARY:Atelier "Nature Inspiration" au Rouge Cloître
DESCRIPTION:Marcher aide à réfléchir\,  libère des blocages et permet d
 &rsquo;avancer\,  au sens propre comme au figuré. La nature offre bien plu
 s de ressources pour votre bien-être que vous ne l&rsquo;imaginez. Pour le
  découvrir\,  participez à notre atelier « Nature Inspiration »&#8230
 ; Objectifs : Prendre un temps pour soi Explorer une question\,  un[..]\nht
 tps://www.psyris.be/evenements/marche-nature-inspiration-rouge-cloitre/
URL:https://www.psyris.be/evenements/marche-nature-inspiration-rouge-cloitre/
END:VEVENT
END:VCALENDAR